BEGIN:VCALENDAR
VERSION:2.0
PRODID:-//Church of the Resurrection - ECPv6.15.20//NONSGML v1.0//EN
CALSCALE:GREGORIAN
METHOD:PUBLISH
X-WR-CALNAME:Church of the Resurrection
X-ORIGINAL-URL:https://churchrez.org
X-WR-CALDESC:Events for Church of the Resurrection
REFRESH-INTERVAL;VALUE=DURATION:PT1H
X-Robots-Tag:noindex
X-PUBLISHED-TTL:PT1H
BEGIN:VTIMEZONE
TZID:America/Chicago
BEGIN:DAYLIGHT
TZOFFSETFROM:-0600
TZOFFSETTO:-0500
TZNAME:CDT
DTSTART:20250309T080000
END:DAYLIGHT
BEGIN:STANDARD
TZOFFSETFROM:-0500
TZOFFSETTO:-0600
TZNAME:CST
DTSTART:20251102T070000
END:STANDARD
BEGIN:DAYLIGHT
TZOFFSETFROM:-0600
TZOFFSETTO:-0500
TZNAME:CDT
DTSTART:20260308T080000
END:DAYLIGHT
BEGIN:STANDARD
TZOFFSETFROM:-0500
TZOFFSETTO:-0600
TZNAME:CST
DTSTART:20261101T070000
END:STANDARD
BEGIN:DAYLIGHT
TZOFFSETFROM:-0600
TZOFFSETTO:-0500
TZNAME:CDT
DTSTART:20270314T080000
END:DAYLIGHT
BEGIN:STANDARD
TZOFFSETFROM:-0500
TZOFFSETTO:-0600
TZNAME:CST
DTSTART:20271107T070000
END:STANDARD
END:VTIMEZONE
BEGIN:VEVENT
DTSTART;TZID=America/Chicago:20260222T123000
DTEND;TZID=America/Chicago:20260222T134500
DTSTAMP:20260423T084447
CREATED:20260202T222911Z
LAST-MODIFIED:20260210T220353Z
UID:45824-1771763400-1771767900@churchrez.org
SUMMARY:A Church-Centered Response to Immigration
DESCRIPTION:The designation made in the Imago Dei extends to all people\, including undocumented immigrants and ICE officers. Join us for a conversation alongside Damon Schroeder (Crisis Response Lead at World Relief) that will help us to think critically and biblically about the complex immigration issues of our day. \nIn a non-partisan way\, this gathering will address such things as border security\, ICE enforcement\, and economic concerns. We will share about how Rez has been involved in refugee resettlement in the last year\, and learn how to engage in local\, cross-cultural mission. \nCome curious and open to learn. We will create a space to engage earnestly in dialogue that leads us towards Jesus and following his command to ‘welcome the stranger’. \n12:30-1:45pm in the St. Gregory Room
URL:https://churchrez.org/event/imago-dei-2/
ATTACH;FMTTYPE=image/png:https://churchrez.org/wp-content/uploads/2026/02/immigration-talk-2.png
END:VEVENT
BEGIN:VEVENT
DTSTART;TZID=America/Chicago:20260222T160000
DTEND;TZID=America/Chicago:20260222T173000
DTSTAMP:20260423T084447
CREATED:20260105T235551Z
LAST-MODIFIED:20260105T235551Z
UID:45137-1771776000-1771781400@churchrez.org
SUMMARY:Become a Member at Rez
DESCRIPTION:Interested in joining Resurrection? Confirmation Class is an 8-week course to help you on that road\, whether you want to become a member\, be baptized or renew your baptismal vows\, or just learn more about Anglicanism. Class meets Sunday afternoons from 4pm-5:30pm\, starting January 25. Sign up by January 11. \nSign up here. Questions? Email Discipleship Manager RachelAdams@churchrez.org
URL:https://churchrez.org/event/confirmation-class-2026/2026-02-22/
CATEGORIES:All Church
ATTACH;FMTTYPE=image/png:https://churchrez.org/wp-content/uploads/2025/12/Confirmation-Class-Jan-26-1.png
END:VEVENT
END:VCALENDAR