BEGIN:VCALENDAR
VERSION:2.0
PRODID:-//Church of the Resurrection - ECPv6.15.20//NONSGML v1.0//EN
CALSCALE:GREGORIAN
METHOD:PUBLISH
X-ORIGINAL-URL:https://churchrez.org
X-WR-CALDESC:Events for Church of the Resurrection
REFRESH-INTERVAL;VALUE=DURATION:PT1H
X-Robots-Tag:noindex
X-PUBLISHED-TTL:PT1H
BEGIN:VTIMEZONE
TZID:America/Chicago
BEGIN:DAYLIGHT
TZOFFSETFROM:-0600
TZOFFSETTO:-0500
TZNAME:CDT
DTSTART:20250309T080000
END:DAYLIGHT
BEGIN:STANDARD
TZOFFSETFROM:-0500
TZOFFSETTO:-0600
TZNAME:CST
DTSTART:20251102T070000
END:STANDARD
BEGIN:DAYLIGHT
TZOFFSETFROM:-0600
TZOFFSETTO:-0500
TZNAME:CDT
DTSTART:20260308T080000
END:DAYLIGHT
BEGIN:STANDARD
TZOFFSETFROM:-0500
TZOFFSETTO:-0600
TZNAME:CST
DTSTART:20261101T070000
END:STANDARD
BEGIN:DAYLIGHT
TZOFFSETFROM:-0600
TZOFFSETTO:-0500
TZNAME:CDT
DTSTART:20270314T080000
END:DAYLIGHT
BEGIN:STANDARD
TZOFFSETFROM:-0500
TZOFFSETTO:-0600
TZNAME:CST
DTSTART:20271107T070000
END:STANDARD
END:VTIMEZONE
BEGIN:VEVENT
DTSTART;TZID=America/Chicago:20260426T103000
DTEND;TZID=America/Chicago:20260426T113000
DTSTAMP:20260423T165649
CREATED:20260318T144503Z
LAST-MODIFIED:20260318T144503Z
UID:46737-1777199400-1777203000@churchrez.org
SUMMARY:First Step
DESCRIPTION:Learn more about Rez at First Step\, a two-part introduction to help you connect with leaders\, hear more of our story and values\, and get to know other new folks. If you’ve been here a while but haven’t attended First Step\, still come! \nJoin us on Sundays\, April 19 & 26 during the 10:30 service\, upstairs in the offices. No sign-up necessary! Can’t make one session? No worries\, come anyway. \nQuestions? Please email Discipleship Manager RachelAdams@churchrez.org.
URL:https://churchrez.org/event/first-step-7/2026-04-26/
LOCATION:IL
CATEGORIES:All Church
ATTACH;FMTTYPE=image/png:https://churchrez.org/wp-content/uploads/2026/03/first-step-1.png
END:VEVENT
BEGIN:VEVENT
DTSTART;TZID=America/Chicago:20260517T133000
DTEND;TZID=America/Chicago:20260517T143000
DTSTAMP:20260423T165649
CREATED:20260331T194926Z
LAST-MODIFIED:20260415T204246Z
UID:46739-1779024600-1779028200@churchrez.org
SUMMARY:Sunday Prayer Appointments
DESCRIPTION:Looking for a connection point with God? Two pastoral leaders will guide you in a one-hour time of healing prayer and connection with Jesus.
URL:https://churchrez.org/event/sunday-prayer-appointments/2026-05-17/
LOCATION:IL
ATTACH;FMTTYPE=image/png:https://churchrez.org/wp-content/uploads/2026/03/prayer-appointments-updated.png
END:VEVENT
BEGIN:VEVENT
DTSTART;TZID=America/Chicago:20260531T133000
DTEND;TZID=America/Chicago:20260531T143000
DTSTAMP:20260423T165649
CREATED:20260331T194926Z
LAST-MODIFIED:20260415T204246Z
UID:47018-1780234200-1780237800@churchrez.org
SUMMARY:Sunday Prayer Appointments
DESCRIPTION:Looking for a connection point with God? Two pastoral leaders will guide you in a one-hour time of healing prayer and connection with Jesus.
URL:https://churchrez.org/event/sunday-prayer-appointments/2026-05-31/
LOCATION:IL
ATTACH;FMTTYPE=image/png:https://churchrez.org/wp-content/uploads/2026/03/prayer-appointments-updated.png
END:VEVENT
END:VCALENDAR