BEGIN:VCALENDAR
VERSION:2.0
PRODID:-//Church of the Resurrection - ECPv6.15.20//NONSGML v1.0//EN
CALSCALE:GREGORIAN
METHOD:PUBLISH
X-ORIGINAL-URL:https://churchrez.org
X-WR-CALDESC:Events for Church of the Resurrection
REFRESH-INTERVAL;VALUE=DURATION:PT1H
X-Robots-Tag:noindex
X-PUBLISHED-TTL:PT1H
BEGIN:VTIMEZONE
TZID:America/Chicago
BEGIN:DAYLIGHT
TZOFFSETFROM:-0600
TZOFFSETTO:-0500
TZNAME:CDT
DTSTART:20250309T080000
END:DAYLIGHT
BEGIN:STANDARD
TZOFFSETFROM:-0500
TZOFFSETTO:-0600
TZNAME:CST
DTSTART:20251102T070000
END:STANDARD
BEGIN:DAYLIGHT
TZOFFSETFROM:-0600
TZOFFSETTO:-0500
TZNAME:CDT
DTSTART:20260308T080000
END:DAYLIGHT
BEGIN:STANDARD
TZOFFSETFROM:-0500
TZOFFSETTO:-0600
TZNAME:CST
DTSTART:20261101T070000
END:STANDARD
BEGIN:DAYLIGHT
TZOFFSETFROM:-0600
TZOFFSETTO:-0500
TZNAME:CDT
DTSTART:20270314T080000
END:DAYLIGHT
BEGIN:STANDARD
TZOFFSETFROM:-0500
TZOFFSETTO:-0600
TZNAME:CST
DTSTART:20271107T070000
END:STANDARD
END:VTIMEZONE
BEGIN:VEVENT
DTSTART;TZID=America/Chicago:20260405T060000
DTEND;TZID=America/Chicago:20260405T120000
DTSTAMP:20260423T194615
CREATED:20260328T130450Z
LAST-MODIFIED:20260401T192610Z
UID:46923-1775368800-1775390400@churchrez.org
SUMMARY:Easter Sunday Services: 6am & 10am
DESCRIPTION:Easter Sunday services: 6am & 10am \nEncounter Jesus at our joyful celebration of his resurrection! A continuation of the Vigil services begun the day before\, our Easter morning services have identical liturgies. They include: the Acclamation that “Christ is Risen!”\, the Holy Noise\, baptisms\, and the first Communion of Easter. \nBring your own Easter bells to ring! \nChildren’s worship available for ages 0-5 at 10am only. \nLivestream is available at 10am only here. \nLearn more about Easter Sunday here.
URL:https://churchrez.org/event/easter-sunday-services-2026/
CATEGORIES:All Church
ATTACH;FMTTYPE=image/png:https://churchrez.org/wp-content/uploads/2026/03/easter-sunday.png
END:VEVENT
END:VCALENDAR